BEGIN:VCALENDAR
VERSION:2.0
METHOD:PUBLISH
BEGIN:VEVENT
DTSTART:20250316T100000Z
LOCATION:Unterallgäuhalle Trunkelsberg
TRANSP: OPAQUE
SEQUENCE:0
UID:
DTSTAMP:20260421T233410Z
SUMMARY:Kinder Flohmarkt
DESCRIPTION:Kinder Flohmarkt in Trunkelsberg &#8211; Alles rund ums Kind.mit Maltisch, Kinderschminken, bunte Zöpfe flechten, Popcorn, Tanzworkshop, Dance 4 Kids.Für das leibliche Wohl ist gesorgt.&nbsp;&nbsp;
PRIORITY:1
CLASS:PUBLIC
BEGIN:VALARM
TRIGGER:-PT10080M
ACTION:DISPLAY
DESCRIPTION:Reminder
END:VALARM
END:VEVENT
END:VCALENDAR
