BEGIN:VCALENDAR
VERSION:2.0
METHOD:PUBLISH
BEGIN:VEVENT
DTSTART:20250328T200000Z
LOCATION:Kaminwerk
TRANSP: OPAQUE
SEQUENCE:0
UID:
DTSTAMP:20260421T084243Z
SUMMARY:Ohrenfeindt + Support
DESCRIPTION:Wir machen Rock &#8211; Tour 202530 Jahre auf dem Buckel – und noch lange nicht genug!Ohrenfeindt sind zurück auf Tour und rocken das Kaminwerk. Mit ihrem 10. Album und frischen Singles im Gepäck bringt das Vollgasrock-Trio die Bühne zum Beben.Die Jungs aus Hamburg-St. Pauli stehen für lauten, ehrlichen Roggenrohl, der ohne Sicherheitsnetz mitten ins Gesicht drückt! Chris Laut, Keule Rockt und Robert &#8218;Jöcky&#8216; Jöcks versprechen zwei Stunden pure Energie: Ohne Helm, ohne Gurt, dafür mit ordentlich PS und Powerslide.Sei dabei, wenn die Dampframme von der Reeperbahn das Kaminwerk zum Beben bringt – das ist Vollgasrock vom Feinsten!Einlass: 19:00 Uhr, Beginn: [&hellip;]
PRIORITY:1
CLASS:PUBLIC
BEGIN:VALARM
TRIGGER:-PT10080M
ACTION:DISPLAY
DESCRIPTION:Reminder
END:VALARM
END:VEVENT
END:VCALENDAR
