BEGIN:VCALENDAR
VERSION:2.0
METHOD:PUBLISH
BEGIN:VEVENT
DTSTART:20250430T193000Z
LOCATION:Bocksaal Leutkirch
TRANSP: OPAQUE
SEQUENCE:0
UID:
DTSTAMP:20260421T083032Z
SUMMARY:Offene Bühne in der Walpurgisnacht
DESCRIPTION:Am Mittwoch, den 30. April, der Walpurgisnacht, kommen nicht die Hexen in den Bocksaal in Leutkirch, sondern da gibt´s die nächste Offene Bühne. Der Sänger der Hausband Feelin´ Alright ist verhindert. Er wird durch zwei Stimmen ersetzt, die Stimmen der Soulsisters Angele. Die beiden sind bekannt für ihre elegante Erscheinung, die unprätentiöse Performance und nicht zuletzt für ihren vielfältigen Gesang. Ruth und Judith Angele haben bei der offenen Bühne bereits das Publikum im Bock begeistert. Das wird ihnen auch diesmal wieder gelingen: Sie zeigen im Heimspiel mit der Band Feelin´ Alright Trio (Gitarre, Bass und Schlagzeug), dass sie nicht nur gefühlvolle [&hellip;]
PRIORITY:1
CLASS:PUBLIC
BEGIN:VALARM
TRIGGER:-PT10080M
ACTION:DISPLAY
DESCRIPTION:Reminder
END:VALARM
END:VEVENT
END:VCALENDAR
