BEGIN:VCALENDAR
VERSION:2.0
METHOD:PUBLISH
BEGIN:VEVENT
DTSTART:20250426T200000Z
LOCATION:Club Vaudeville Lindau
TRANSP: OPAQUE
SEQUENCE:0
UID:
DTSTAMP:20260421T084513Z
SUMMARY:SchreYner @ VAUDEVILLE LINDAU
DESCRIPTION:SCHREYNER verbindet 7 Musiker, die schon lange zusammen die Bühne rocken. Von 1994 bis 2015 spielte sich die Formation unter dem Namen „FACE“ mit über 1500 Konzerten zur erfolgreichsten Rock-Coverband Süddeutschlands.2014 gründeten die Musiker die Band „SCHREYNER“ um „Back to the roots“ wieder zum ursprünglichen Hardrock und melodischen Metal zurückzukehren. Getreu dem Motto: „Jeder Song ein Brett“.SCHREYNER spielt in den angesagtesten Clubs Süddeutschlands und präsentiert in Ihrem 3-stündigen Programm die besten Rocksongs aus der guten alten Zeit des „Monsters Of Rock“!Songs von AC/DC, Accept, Dio, Edguy, Judas Priest, Metallica, Mötley Crüe, Van Halen, Whitesnake u.v.m. werden mit 30-jähriger Live-Erfahrung absolut [&hellip;]
PRIORITY:1
CLASS:PUBLIC
BEGIN:VALARM
TRIGGER:-PT10080M
ACTION:DISPLAY
DESCRIPTION:Reminder
END:VALARM
END:VEVENT
END:VCALENDAR
