BEGIN:VCALENDAR
VERSION:2.0
METHOD:PUBLISH
BEGIN:VEVENT
DTSTART:20250531T190000Z
LOCATION:Kirche zum kostbaren Blut, Neutrauchburg
TRANSP: OPAQUE
SEQUENCE:0
UID:
DTSTAMP:20260421T084325Z
SUMMARY:Soulsisters &#038; Feelin&#8216; Alright
DESCRIPTION:Konzert mit den Soulsisters &amp; Feelin&#8216; Alright in Isny-Neutrauchburg
PRIORITY:1
CLASS:PUBLIC
BEGIN:VALARM
TRIGGER:-PT10080M
ACTION:DISPLAY
DESCRIPTION:Reminder
END:VALARM
END:VEVENT
END:VCALENDAR
