BEGIN:VCALENDAR
VERSION:2.0
METHOD:PUBLISH
BEGIN:VEVENT
DTSTART:20250607T150000Z
LOCATION:Konzertsegel Radolfzell
TRANSP: OPAQUE
SEQUENCE:0
UID:
DTSTAMP:20260421T084518Z
SUMMARY:Seefestival Radolfzell: Roy Bianco &#038; Die Abbrunzati Boys
DESCRIPTION:ROY BIANCO &amp; DIE ABBRUNZATI BOYSKULT SOMMER 2025: DIE HEILIGE MESSE DES ITALO-SCHLAGERSEines ist klar und der Ruf trägt weit. An Roy Bianco &amp; Die Abbrunzati Boys kommt man seit Jahren nicht vorbei: denn sie sind nicht umsonst DIE Liveband der Stunde. Und so nimmt es keine Wunder, dass die Gruppe auch mit ihrem neuen Album »Kult« in 2025 auf große Gastspielreise geht. Nur endlich dort, wo der Italo-Schlager auch wirklich hingehört: Auf die ganz großen Bühnen und in die ganz großen Hallen Deutschlands und Österreichs. Energiegeladen und mit schelmischen Possen spielen sie ihre alten und vor allem die neuen [&hellip;]
PRIORITY:1
CLASS:PUBLIC
BEGIN:VALARM
TRIGGER:-PT10080M
ACTION:DISPLAY
DESCRIPTION:Reminder
END:VALARM
END:VEVENT
END:VCALENDAR
