BEGIN:VCALENDAR
VERSION:2.0
METHOD:PUBLISH
BEGIN:VEVENT
DTSTART:20250621T045400Z
LOCATION:Schussenrieder Brauerei Ott
TRANSP: OPAQUE
SEQUENCE:0
UID:
DTSTAMP:20260421T083140Z
SUMMARY:SCHUSSENRIEDER Wohnmobiltage
DESCRIPTION:Die Schussenrieder Brauerei Ott lädt alle Wohnmobil-Fans vom 20. bis 22. Juni 2025 zu einem geselligen Wochenende mit reichlich Live-Musik und buntem Rahmenprogramm nach Oberschwaben ein. Feiern und Fröhlich sein steht bei den Schussenrieder Wohnmobiltagen im Vordergrund.Die Wohnmobile können bequem auf dem Wohnmobilstellplatz geparkt werden. Freie Platzwahl bei den Stellplätzen! In ruhiger Lage und doch zentral können von dort aus alle angebotenen Unternehmungen gemacht werden.Informationen zur SCHUSSENRIEDER Brauerei Ott mit Deutschlands 1. Bierkrugmuseum erhalten Sie unter www.schussenrieder.de.
PRIORITY:1
CLASS:PUBLIC
BEGIN:VALARM
TRIGGER:-PT10080M
ACTION:DISPLAY
DESCRIPTION:Reminder
END:VALARM
END:VEVENT
END:VCALENDAR
