BEGIN:VCALENDAR
VERSION:2.0
METHOD:PUBLISH
BEGIN:VEVENT
DTSTART:20250607T210000Z
LOCATION:Mausefalle Bad Saulgau
TRANSP: OPAQUE
SEQUENCE:0
UID:
DTSTAMP:20260421T094843Z
SUMMARY:Wildwechsel
DESCRIPTION:Wildwechsel in der Mausefalle Bad SaulgauDie Single und Flirtparty!-FLIRTEN,TAUSCHEN, FREIGETRÄNK!Jeden ersten Samstag im Monat.Mit den Party Dancers in der Luna Bar. MausefalleMartin-Staud-Str.1288348 Bad Saulgau
PRIORITY:1
CLASS:PUBLIC
BEGIN:VALARM
TRIGGER:-PT10080M
ACTION:DISPLAY
DESCRIPTION:Reminder
END:VALARM
END:VEVENT
END:VCALENDAR
