BEGIN:VCALENDAR
VERSION:2.0
METHOD:PUBLISH
BEGIN:VEVENT
DTSTART:20250608T120000Z
LOCATION:Innenstadt Lindau
TRANSP: OPAQUE
SEQUENCE:0
UID:
DTSTAMP:20260420T083325Z
SUMMARY:Verkaufsoffener Sonntag in Lindau
DESCRIPTION:Am 27. April und 08. Juni 2025 sind nur die Geschäfte auf der Lindauer Insel geöffnet.
PRIORITY:1
CLASS:PUBLIC
BEGIN:VALARM
TRIGGER:-PT10080M
ACTION:DISPLAY
DESCRIPTION:Reminder
END:VALARM
END:VEVENT
END:VCALENDAR
