BEGIN:VCALENDAR
VERSION:2.0
METHOD:PUBLISH
BEGIN:VEVENT
DTSTART:20250720T100000Z
LOCATION:Leutkirch
TRANSP: OPAQUE
SEQUENCE:0
UID:
DTSTAMP:20260421T094730Z
SUMMARY:1. Oldtimer &#038; Youngtimer &#8211; Treffen
DESCRIPTION:Liebhaber klassischer Fahrzeuge aufgepasst!Wir laden alle Besitzer und Fans von Oldtimern und Youngtimern ein egal ob glänzender Klassiker oder kultiger Alltagsheld!Mehr Infos auf dem Flyer
PRIORITY:1
CLASS:PUBLIC
BEGIN:VALARM
TRIGGER:-PT10080M
ACTION:DISPLAY
DESCRIPTION:Reminder
END:VALARM
END:VEVENT
END:VCALENDAR
