BEGIN:VCALENDAR
VERSION:2.0
METHOD:PUBLISH
BEGIN:VEVENT
DTSTART:20250705T172300Z
LOCATION:Röhren
TRANSP: OPAQUE
SEQUENCE:0
UID:
DTSTAMP:20260421T085253Z
SUMMARY:8. BMW-Treffen Aulendorf
DESCRIPTION:Hallo an alle BMW Liebhaber!Wir der BMW Röhren Team e.V. laden Euch am 05.07-06.07.2025 zu unserem 8. Bmw Treffen recht Herzlich im Röhren ein.Wir würden uns wieder freuen mit Euch BMW Liebhaber bei uns im schönen Schwabenland im Röhren zu feiern!Es wird wieder für viel Spaß und Spannung gesorgt !!Am Samstag um 10.00 Uhr geht los und jeder BMW-Fan ob jung oder alt kann sein Prachtstück bei uns dann zeigen! Eine Fahrzeugbewertung mit schönen Pokalen wird es auch geben!! Sie findet Samstag ab 14.00Uhr bis Sonntag ca 14.30 Uhr statt!!Für das Wochenende haben wir uns wieder einiges neues ausgedacht damit [&hellip;]
PRIORITY:1
CLASS:PUBLIC
BEGIN:VALARM
TRIGGER:-PT10080M
ACTION:DISPLAY
DESCRIPTION:Reminder
END:VALARM
END:VEVENT
END:VCALENDAR
