BEGIN:VCALENDAR
VERSION:2.0
METHOD:PUBLISH
BEGIN:VEVENT
DTSTART:20250816T130000Z
LOCATION:Innenstadt Leutkirch
TRANSP: OPAQUE
SEQUENCE:0
UID:
DTSTAMP:20260419T130625Z
SUMMARY:ALSO-Festival Leutkirch
DESCRIPTION:Sa 16.08.13:00 Uhr Kids-Race für Einsteiger mit Laufradrennen (Ausgabe der Startnummern ab 12:30)14:00 Uhr U11 Nachwuchs MTB Rennen des O.M.V – Cups14:30 Uhr U13 Nachwuchs MTB Rennen des O.M.V – Cups15:15 Uhr U15 &amp; U17 Nachwuchs MTB Rennen des O.M.V – Cups16:30 Uhr Downhill RennenIm Anschluss Siegerehrung auf der Rathausbühne oder am Jugendplatzca. 17.00 Aftershowparty mit den Bike Stars bei U&amp;D am JugendplatzMTB Event mit VBAO Duathlon in der Innenstadt der TSG Radabteilung LeutkirchMountainbike Rennserie für Kinder und Nachwuchs mit Parcours und fahrtechnischen Hindernissen. Dabei kommt es nicht nur auf Geschwindigkeit, sondern auch auf Fahrtechnik, Koordination und Geschicklichkeit an. Daneben [&hellip;]
PRIORITY:1
CLASS:PUBLIC
BEGIN:VALARM
TRIGGER:-PT10080M
ACTION:DISPLAY
DESCRIPTION:Reminder
END:VALARM
END:VEVENT
END:VCALENDAR
