BEGIN:VCALENDAR
VERSION:2.0
METHOD:PUBLISH
BEGIN:VEVENT
DTSTART:20250712T130000Z
LOCATION:Feuerwehrhaus, Lindenberg
TRANSP: OPAQUE
SEQUENCE:0
UID:
DTSTAMP:20260421T094654Z
SUMMARY:Lindenberger Feuerwehrtag
DESCRIPTION:Ein vielseitiges Kinderprogramm, Schauübungen, Rundfahrten mit dem Feuerwehrauto und eine reichhaltige Bewirtung erwarten Kinder, Familien sowie kleine und große Fans der Feuerwehr beim Lindenberger Feuerwehrtag.&nbsp;
PRIORITY:1
CLASS:PUBLIC
BEGIN:VALARM
TRIGGER:-PT10080M
ACTION:DISPLAY
DESCRIPTION:Reminder
END:VALARM
END:VEVENT
END:VCALENDAR
