BEGIN:VCALENDAR
VERSION:2.0
METHOD:PUBLISH
BEGIN:VEVENT
DTSTART:20250807T142700Z
LOCATION:Landungsplatz
TRANSP: OPAQUE
SEQUENCE:0
UID:
DTSTAMP:20260421T085338Z
SUMMARY:Sparkasse Bodensee Beach Days
DESCRIPTION:5. – 10. August 2025 – Die Sparkasse Bodensee Beach Days kommen zurück!Erlebe den Überlinger Landungsplatz als Beach-Arena mit 220 Tonnen Sand, einem coolen Bandensystem und einer tollen Zuschauertribüne.Freu dich auf 6 Tage voller spannender Turniere in Volleyball, Handball, Fußball und Basketball!Mach mit, wenn der Sommer am Bodensee gefeiert wird!Infos: https://www.beach-days-ueberlingen.de
PRIORITY:1
CLASS:PUBLIC
BEGIN:VALARM
TRIGGER:-PT10080M
ACTION:DISPLAY
DESCRIPTION:Reminder
END:VALARM
END:VEVENT
END:VCALENDAR
