BEGIN:VCALENDAR
VERSION:2.0
METHOD:PUBLISH
BEGIN:VEVENT
DTSTART:20251009T193000Z
LOCATION:Inselhalle Lindau
TRANSP: OPAQUE
SEQUENCE:0
UID:
DTSTAMP:20260421T084314Z
SUMMARY:Die Zukunft des Israel-Palästina-Konflikts: Wie Emotionen den Nahostkonflikt antreiben und entschärfen können
DESCRIPTION:Vortrag und Gespräch mit José Brunner, Prof. em. für Politik, Rechtswissenschaften sowie Wissenschaftsgeschichte und -philosophie an der Universität Tel Aviv. In Kooperation mit der Petra-Kelly-StiftungIm Nahen Osten führen Waffenstillstände nicht dauerhaft zum Frieden. Israelis und Palästinenser leben in einer brutalen Nachbarschaft, in der kein Volk der existentiellen Bedrohung durch das andere entfliehen kann. Dieser von Angst, Arroganz, Hass und gegenseitiger Entmenschlichung geprägte Konflikt kann nur langfristig entschärft werden, wenn die zwei Nationen sich nicht nur als Opfer des Konflikts fühlen, sondern auch gemeinsam Verantwortung für ihre Zukunft übernehmen. Dazu müssen sie nicht nur lernen umzudenken, sondern auch »umzufühlen«. Denn nur [&hellip;]
PRIORITY:1
CLASS:PUBLIC
BEGIN:VALARM
TRIGGER:-PT10080M
ACTION:DISPLAY
DESCRIPTION:Reminder
END:VALARM
END:VEVENT
END:VCALENDAR
