BEGIN:VCALENDAR
VERSION:2.0
METHOD:PUBLISH
BEGIN:VEVENT
DTSTART:20250822T163000Z
LOCATION:Waldsee - Seepromenade Lindenberg
TRANSP: OPAQUE
SEQUENCE:0
UID:
DTSTAMP:20260421T083008Z
SUMMARY:Pilz Schnupperführung
DESCRIPTION:Seminar mit Pilzsachverständiger der DGfM und Volksheilkundler Rick Frommknecht. In einer zweieinhalbstündigen Wanderung wird ein kleiner Einblick in das hochkomplexe Reich der Pilze vermittelt.Uhrzeiten unter www.allgaeu-mogli.comNicht vergessen: Festes Schuhwerk, witterungsgerechte Kleidung, Sammelkorb, Trinkflasche.Strecke: ca. 1 kmPreis: p.P. 36 €(Kinder von 6 bis 12 Jahren 18 €,max. 3 Kinder bis 5 Jahre pro Gruppe frei)Mindestteilnehmerzahl: 5 PersonenMehr Infos: https://www.allgaeu-mogli.comAnmeldung: bis spätestens zum Seminartag direkt bei Rick Frommknecht, Mail: allgaeu-mogli@posteo.de
PRIORITY:1
CLASS:PUBLIC
BEGIN:VALARM
TRIGGER:-PT10080M
ACTION:DISPLAY
DESCRIPTION:Reminder
END:VALARM
END:VEVENT
END:VCALENDAR
