BEGIN:VCALENDAR
VERSION:2.0
METHOD:PUBLISH
BEGIN:VEVENT
DTSTART:20250829T200000Z
LOCATION:Waldsee - Seepromenade Lindenberg
TRANSP: OPAQUE
SEQUENCE:0
UID:
DTSTAMP:20260421T101100Z
SUMMARY:Fledermäuse belauschen und entdecken &#8211; Veranstaltung zur Nacht der Fledermäuse
DESCRIPTION:Sie fliegen mit den Händen und sehen mit den Ohren &#8211; Fledermäuse üben auf Menschen eine große Faszination aus. Doch mit ihrer verborgenen Lebensweise geht auch ihre Gefährdung einher, die gleichzeitig stark mit dem Handeln des Menschen verbunden ist.Fledermausspezialist Rudolf Zahner entführt uns in die Welt dieser faszinierenden Tiere. Er führt mit dem Fledermausdetektor vor, wie man Fledermäuse entdecken und bestimmen kann. Er erläutert aber auch, welche Bedrohungen für diese Tiere bestehen, und wie wir Ihnen helfen können. Auch für Kinder interessant!Jedes Jahr findet am letzten Augustwochenende bundesweit die „Nacht der Fledermäuse“ statt. Die BN-Kreisgruppe Lindau und die Gebietsbetreuung Moore, [&hellip;]
PRIORITY:1
CLASS:PUBLIC
BEGIN:VALARM
TRIGGER:-PT10080M
ACTION:DISPLAY
DESCRIPTION:Reminder
END:VALARM
END:VEVENT
END:VCALENDAR
