BEGIN:VCALENDAR
VERSION:2.0
METHOD:PUBLISH
BEGIN:VEVENT
DTSTART:20260314T200000Z
LOCATION:bigBOX Kempten
TRANSP: OPAQUE
SEQUENCE:0
UID:
DTSTAMP:20260421T083004Z
SUMMARY:Özcan Cosar: VIP
DESCRIPTION:Özcan Cosar ist zurück – mit „VIP“!Ab 2026 bundesweit auf Tour / Previews Herbst 2025Özcan Cosar ist 2026 mit seiner neuen Show auf großer Tour: „VIP“ &#8211; Comedy, die unterhält und nachhallt. Hier geht er der Frage nach: „Wer ist hier eigentlich wichtig?!“ In „VIP“ rechnet Özcan humorvoll und gleichsam scharfzüngig mit dem absurden VIP-Kult ab. Der Lieblingsschwabe aller Herzen zeigt, wer in Wahrheit wirklich wichtig ist. Die Menschen, die nie im Rampenlicht stehen.„VIP“ steht für ein Leben im Rampenlicht: exklusive Partys, First-Class-Flüge, Bodyguards am Frühstücksbuffet – zumindest in der Vorstellung vieler. Özcan Cosar weiß es besser. Mit „VIP“ nimmt [&hellip;]
PRIORITY:1
CLASS:PUBLIC
BEGIN:VALARM
TRIGGER:-PT10080M
ACTION:DISPLAY
DESCRIPTION:Reminder
END:VALARM
END:VEVENT
END:VCALENDAR
