BEGIN:VCALENDAR
VERSION:2.0
METHOD:PUBLISH
BEGIN:VEVENT
DTSTART:20240715T123200Z
LOCATION:Innenstadt Bad Saulgau
TRANSP: OPAQUE
SEQUENCE:0
UID:
DTSTAMP:20260422T083116Z
SUMMARY:Bächtlefest Bad Saulgau
DESCRIPTION:Montag, 15. Juli 202406:00 UhrInnenstadt Wecken durch den Spielmannszug der Bürgerwache Saulgau08:45 Uhr Altes Kloster Empfang der Ehrengäste09:30 Uhr Haupttribüne Ausrufen der Schützenkönige09:30 Uhr InnenstadtGroßer Historischer Festzug3000 Teilnehmer, über 60 blumengeschmückte Festwagen mit Gespannen, über 250 Pferde, ca. 20 Musikkapellen11:00 &#8211; 13:00 UhrFestzelt / Biergarten Unterhaltungsmusik mit den Wolfartsweiler Musikanten13:15 &#8211; 15:15 UhrFestzelt / Biergarten Unterhaltungsmusik mit der Musikkapelle Moosheim-Tissen15:30 &#8211; 17:30 UhrFestzelt / Biergarten Unterhaltungsmusik mit der Musikkapelle Boms18:00 UhrFestzelt / BiergartenGroße Verlosung mit Bächtle-BändchenTolle Preise zu gewinnen!ab 19:30 UhrFestzelt / Biergarten  Unterhaltungsmusik mit der Musikkapelle Renhardsweiler
PRIORITY:1
CLASS:PUBLIC
BEGIN:VALARM
TRIGGER:-PT10080M
ACTION:DISPLAY
DESCRIPTION:Reminder
END:VALARM
END:VEVENT
END:VCALENDAR
