BEGIN:VCALENDAR
VERSION:2.0
METHOD:PUBLISH
BEGIN:VEVENT
DTSTART:20260430T160000Z
LOCATION:Graf-Zeppelin-Haus
TRANSP: OPAQUE
SEQUENCE:0
UID:
DTSTAMP:20260423T223918Z
SUMMARY:The Lord of The Rings &#038; The Hobbit &#8211; Concert
DESCRIPTION:𝐃𝐢𝐞 𝐇𝐨𝐛𝐛𝐢𝐭𝐬 𝐤𝐨𝐦𝐦𝐞𝐧! Erlebe 𝐃𝐞𝐫 𝐇𝐞𝐫𝐫 𝐝𝐞𝐫 𝐑𝐢𝐧𝐠𝐞, 𝐃𝐞𝐫 𝐇𝐨𝐛𝐛𝐢𝐭 𝐮𝐧𝐝 𝐃𝐢𝐞 𝐑𝐢𝐧𝐠𝐞 𝐃𝐞𝐫 𝐌𝐚𝐜𝐡𝐭 Das Konzert — präsentiert von einem Stargast aus den Filmen! Genieße die einzigartigen musikalischen Welten von J.R.R. Tolkien in einem großartigen Konzert mit Weltklasse-Starsolisten, der Stimme des legendären Saruman-Darstellers Sir Christopher Lee und dem Orchester und Chor des Auenlandes: Von den bedrohlichen Klängen Mordors und den schrillen Angriffen der Schwarzen Reiter bis zu den schönen, lyrischen Melodien der Elben.Sei zu Gast bei der einzigen Filmmusik-Konzertreihe der Welt mit einem Stargast aus den Herr der Ringe &amp; Hobbit-Filmen, der nicht nur die beste Musik aus „Der [&hellip;]
PRIORITY:1
CLASS:PUBLIC
BEGIN:VALARM
TRIGGER:-PT10080M
ACTION:DISPLAY
DESCRIPTION:Reminder
END:VALARM
END:VEVENT
END:VCALENDAR
