BEGIN:VCALENDAR
VERSION:2.0
METHOD:PUBLISH
BEGIN:VEVENT
DTSTART:20251004T204500Z
LOCATION:Historischer Adlersaal Großholzleute
TRANSP: OPAQUE
SEQUENCE:0
UID:
DTSTAMP:20260421T084248Z
SUMMARY:Riddims &amp; Revolution &#8211; Raggalution meets Kulturgetriebe
DESCRIPTION:An diesem Abend bzw. dieser Nacht präsentiert das Kulturgetriebe zum ersten Mal einen Reggaeevent, etwas was wir gerne jedes Jahr wiederholen wollen. Zuerst beginn ein guter Bekannter und Local, nämlich &#8222;Dayyon Levi&#8220;.Der deutsche Reggaemusiker veröffentlichte 2020 sein Debutalbum &#8222;Sprin River Sea&#8220;. Er verbringt viel Zeit auf Jamaika, wo er zusammen mit bekannten MusikerInnen an seiner Musik arbeitet. Seine Texte sind auf englisch und jamaikanisch.Wir freuen uns!!! Danach gibts den zweiten und für den Abend Haupt-Live-Act mit &#8222;Raggalution&#8220; aus Slowenien. Wenn dann das Raggalutionkonzert vorbei ist gibt&#8217;s noch eine Aftershowparty. Zuerst mit dem ChooChooTrain und im Anschluss mit Irie M (Sungun [&hellip;]
PRIORITY:1
CLASS:PUBLIC
BEGIN:VALARM
TRIGGER:-PT10080M
ACTION:DISPLAY
DESCRIPTION:Reminder
END:VALARM
END:VEVENT
END:VCALENDAR
