BEGIN:VCALENDAR
VERSION:2.0
METHOD:PUBLISH
BEGIN:VEVENT
DTSTART:20251029T143000Z
LOCATION:Graf-Zeppelin-Haus
TRANSP: OPAQUE
SEQUENCE:0
UID:
DTSTAMP:20260421T085406Z
SUMMARY:Puppentheater – Das NEINhorn und die SCHLANGEWEILE
DESCRIPTION:Das NEINhorn und die SCHLANGEWEILEEin lustiges Handpuppenspiel gespielt von der Puppenbuehne MaatzambaDort, wo alle gliglaglücklich sind, wo man Seifenblasen pupst als Kind, wo sich alle Sätze reimen, sagt ein Einhorn ständig: NEIN! Glücklich? NEIN! Nach einem Streit mit der KönigsDOCHter, dem WASbären und dem NAhUND verlässt das NEINhorn den Herzwald und trifft im Dschungel auf die SchLANGEWEILE. Die allesss ssschlangweilig findet. Aber das bringt das NEINhorn auf eine Idee. Welche? Sssssieht ihr in der Inszenierung von “Das NEINhorn und die SchLANGEWEILE&#8220; …Für mutige Mäuse ab 2 JahreSpieldauer: ca. 50 Minuten inkl. kurzer PausePreisePro Person ab 2 Jahre: 10 Euro
PRIORITY:1
CLASS:PUBLIC
BEGIN:VALARM
TRIGGER:-PT10080M
ACTION:DISPLAY
DESCRIPTION:Reminder
END:VALARM
END:VEVENT
END:VCALENDAR
