BEGIN:VCALENDAR
VERSION:2.0
METHOD:PUBLISH
BEGIN:VEVENT
DTSTART:20261114T200000Z
LOCATION:Stadthalle Sigmaringen
TRANSP: OPAQUE
SEQUENCE:0
UID:
DTSTAMP:20260421T115637Z
SUMMARY:&#8222;Purer Zufall&#8220; in Sigmaringen / Tour Sebastian Reich &#038; Amanda
DESCRIPTION:Unsere „Purer Zufall“-Tour geht in die nächste Runde! – Tickets ab sofort im Vorverkauf!„Purer Zufall“ – die Comedyshow, die das Glück verdoppelt! Nilpferd Amanda &amp; Co sind bereit für ein neues Showerlebnis voller Spaß und unvorhersehbarer Überraschungen!Im bereits fünften Tour-Programm von Bauchredner Sebastian Reich geht es rund: Es wird musikalisch, zauberhaft, emotional, romantisch, interaktiv und vor allen Dingen lustig! Während Amanda gerne mal improvisiert, überlässt Sebastian nichts dem Zufall, so ist zumindest sein Plan. Wäre da nicht Amanda, die sich ganz besonders auf ein Wiedersehen mit alten Bekannten freut, wie z. B. den fränkischen Maulwurf Schorsch. Er und weitere Gäste [&hellip;]
PRIORITY:1
CLASS:PUBLIC
BEGIN:VALARM
TRIGGER:-PT10080M
ACTION:DISPLAY
DESCRIPTION:Reminder
END:VALARM
END:VEVENT
END:VCALENDAR
