BEGIN:VCALENDAR
VERSION:2.0
METHOD:PUBLISH
BEGIN:VEVENT
DTSTART:20260314T200000Z
LOCATION:Dorfgemeinschaftshaus
TRANSP: OPAQUE
SEQUENCE:0
UID:
DTSTAMP:20260421T084441Z
SUMMARY:Huub Dutch Duo &#8211; Life is fine &#8230; Musik-Comedy
DESCRIPTION:Charismatischer Musik-Entertainer Huub Dutch in Kombination mit bluesigem Bühnen-Stoiker Chris Oettinger, das steht für großartiges Entertainment mit &#8222;Wäscheleinophon&#8220;, Gesang, Trompete und Klavier: Moderationen mit lässigem Witz. Mitreißende Show-Einlagen. Swingende Klassiker und charmante Songs aus eigener Feder, mal fetzig, mal romantisch, mit humorvollen, intelligenten Texten.&nbsp;
PRIORITY:1
CLASS:PUBLIC
BEGIN:VALARM
TRIGGER:-PT10080M
ACTION:DISPLAY
DESCRIPTION:Reminder
END:VALARM
END:VEVENT
END:VCALENDAR
