BEGIN:VCALENDAR
VERSION:2.0
METHOD:PUBLISH
BEGIN:VEVENT
DTSTART:20260509T200000Z
LOCATION:Dorfgemeinschaftshaus
TRANSP: OPAQUE
SEQUENCE:0
UID:
DTSTAMP:20260419T130347Z
SUMMARY:Stefan Kröll &#8211; schee wuid Kabarett aus Bayern
DESCRIPTION:Wild geht’s her und schön noch dazu im neuen Kabarett &#8211; Programm von Stefan Kröll, das er im März2025 erstmals auf die Bühne bringt. “schee wuid“ heißt das mittlerweile siebte Programm desunermüdlichen Optimisten aus dem Rosenheimer Land. Es ist Stefan Krölls´ ganz eigene Sicht auf dieDinge, die den Zuschauer mitnimmt auf eine Achterbahn der Querverbindungen, Überraschungenund thematischen Brüche. Wunderbar schräg und leicht kommen seine Bilder daher und fügen sicham Ende doch wieder zu einem großen Ganzen zusammen. Dahinter steckt nichts weniger als einegroße Idee, ein Wunsch, eine Sehnsucht, den Nörglern und Schwarzsehern in „Mecker- Deutschland“irgendwie die Luft rauszulassen. Mit viel [&hellip;]
PRIORITY:1
CLASS:PUBLIC
BEGIN:VALARM
TRIGGER:-PT10080M
ACTION:DISPLAY
DESCRIPTION:Reminder
END:VALARM
END:VEVENT
END:VCALENDAR
