BEGIN:VCALENDAR
VERSION:2.0
METHOD:PUBLISH
BEGIN:VEVENT
DTSTART:20260422T193000Z
LOCATION:Theaterkästle Altusried
TRANSP: OPAQUE
SEQUENCE:0
UID:
DTSTAMP:20260421T084321Z
SUMMARY:Altusrieder Literaturfrühling: Premierenlesung mit Volker Klüpfel
DESCRIPTION:Mord ist die beste Beseitigung!Bestsellerautor und Altusrieder Lokalmatador Volker Klüpfel stellt sein neues Solo-Buch direkt am Erscheinungstag vor. Die unerschrockene und wahnsinnig charmante Ukrainerin Svetlana und der schreibende Camper Tommi geraten wieder mitten in einen turbulenten Kriminalfall.Humor, Spannung und echte Klüpfel-Komik garantiert!Im Anschluss: ukrainische Häppchen im Theaterfoyer.
PRIORITY:1
CLASS:PUBLIC
BEGIN:VALARM
TRIGGER:-PT10080M
ACTION:DISPLAY
DESCRIPTION:Reminder
END:VALARM
END:VEVENT
END:VCALENDAR
