BEGIN:VCALENDAR
VERSION:2.0
METHOD:PUBLISH
BEGIN:VEVENT
DTSTART:20240520T100000Z
LOCATION:Gemeindehalle Daugendorf
TRANSP: OPAQUE
SEQUENCE:0
UID:
DTSTAMP:20260421T194659Z
SUMMARY:Pfingstfest in Daugendorf
DESCRIPTION:ab 10.00 Uhr Festgottesdienstab 11.15 Uhr Frühschoppen und Mittagessen mit dem MV Altheimab 14.45 Uhr Kaffee und Kuchen mit dem MV Wilflingen18.00 Uhr Tanzgruppe NZ Daugendorfim Anschluss Festausklang mit dem MV Grüningen und dem Fanfarenzug Daugendorf
PRIORITY:1
CLASS:PUBLIC
BEGIN:VALARM
TRIGGER:-PT10080M
ACTION:DISPLAY
DESCRIPTION:Reminder
END:VALARM
END:VEVENT
END:VCALENDAR
