BEGIN:VCALENDAR
VERSION:2.0
METHOD:PUBLISH
BEGIN:VEVENT
DTSTART:20260328T220000Z
LOCATION:Kulturhalle Abdera
TRANSP: OPAQUE
SEQUENCE:0
UID:
DTSTAMP:20260421T102058Z
SUMMARY:Voyage Noir
DESCRIPTION:Old School Party &amp; more : New-/Dark-WaveDarkElectro &#8211; Gothic &#8211; Classix &#8211; EBMPost-Punk &#8211; 80er &#8211; usw.mit DJ Dieter (ABBY/Orange Club/La Grange/Lambarene)Dress to impress&#8230; Black is beautiful.22-4Uhr
PRIORITY:1
CLASS:PUBLIC
BEGIN:VALARM
TRIGGER:-PT10080M
ACTION:DISPLAY
DESCRIPTION:Reminder
END:VALARM
END:VEVENT
END:VCALENDAR
