BEGIN:VCALENDAR
VERSION:2.0
METHOD:PUBLISH
BEGIN:VEVENT
DTSTART:20260319T193000Z
LOCATION:Haus des Gastes (Kursaal)
TRANSP: OPAQUE
SEQUENCE:0
UID:
DTSTAMP:20260421T095702Z
SUMMARY:Vortrag: Hilfe zur Selbsthilfe bei Tinnitus
DESCRIPTION:Durch eine Kombination aus Gymnastik, Atmung und Selbstmassage werden Menschen dabei unterstützt, ihr Leiden selbst zu lindern. Es ist eine Synthese aus bioenergetischer Analyse, einer lockernden Gymnastik, einer speziellen Selbstmassage, inneren Übungen der TCM sowie achtsamkeitsbasierter Meditation. Stefan Gebhardt ist Hörakustiker und ausgebildeter und lizensierter Tinnitus-Atemtrainer, er erläutert die Zusammenhänge und Möglichkeiten einer Tinnitus-Atemtherapie.
PRIORITY:1
CLASS:PUBLIC
BEGIN:VALARM
TRIGGER:-PT10080M
ACTION:DISPLAY
DESCRIPTION:Reminder
END:VALARM
END:VEVENT
END:VCALENDAR
