BEGIN:VCALENDAR
VERSION:2.0
METHOD:PUBLISH
BEGIN:VEVENT
DTSTART:20260514T204700Z
LOCATION:Münsterplatz Konstanz
TRANSP: OPAQUE
SEQUENCE:0
UID:
DTSTAMP:20260421T211848Z
SUMMARY:Landesturnfest Konstanz 2026
DESCRIPTION:Nachdem das Landesturnfest in Lahr 2022 nach über zwei Jahren Corona-Beschränkungen mit fünf Turnfesttagen begeisterte und unter den über 8.000 aktiven Teilnehmenden für unvergessliche Momente sorgte, laufen bereits die Vorbereitungen für das nächste Landesturnfest des Badischen Turner-Bundes (BTB). Dieses soll 2026 in Konstanz stattfinden.
PRIORITY:1
CLASS:PUBLIC
BEGIN:VALARM
TRIGGER:-PT10080M
ACTION:DISPLAY
DESCRIPTION:Reminder
END:VALARM
END:VEVENT
END:VCALENDAR
