BEGIN:VCALENDAR
VERSION:2.0
METHOD:PUBLISH
BEGIN:VEVENT
DTSTART:20261010T210100Z
LOCATION:Innenstadt Memmingen
TRANSP: OPAQUE
SEQUENCE:0
UID:
DTSTAMP:20260421T170357Z
SUMMARY:Memminger Jahrmarkt
DESCRIPTION:Der Memminger Jahrmarkt verwandelt die Innenstadt in einen lebhaften Treffpunkt mit zahlreichen Schaustellerbetrieben. Von Dienstag bis Donnerstag ergänzt der Krämermarkt mit über 90 Ständen das bunte Treiben und lädt zum Stöbern und Genießen ein.Öffnungszeiten Jahrmarkt:Sa. und So. 11 bis 22 UhrMo. und Fr. 12 bis 22 UhrDi. bis Do. 9 bis 22 UhrKrämermarkt:Di &#8211; Do von 9 bis 20 Uhr
PRIORITY:1
CLASS:PUBLIC
BEGIN:VALARM
TRIGGER:-PT10080M
ACTION:DISPLAY
DESCRIPTION:Reminder
END:VALARM
END:VEVENT
END:VCALENDAR
