BEGIN:VCALENDAR
VERSION:2.0
METHOD:PUBLISH
BEGIN:VEVENT
DTSTART:20260702T213700Z
LOCATION:Innenstadt Mindelheim
TRANSP: OPAQUE
SEQUENCE:0
UID:
DTSTAMP:20260421T102117Z
SUMMARY:Frundsbergfest Mindelheim vom 26. Juni 2026 bis 05. Juli 2026
DESCRIPTION:Alle drei Jahre findet in Mindelheim das Frundsbergfest statt, welches zum Andenken an den einstigen Stadtherrn Georg von Frundsberg (1473 bis 1528) für zehn Tage gefeiert wird. Das Frundsbergfest hat sich im ganzen süddeutschen Raum sowie im benachbarten Ausland einen Namen gemacht, kann sich zu den größten historischen Festen Süddeutschlands zählen und begeistert alle drei Jahre rund 55.000 Besucher.
PRIORITY:1
CLASS:PUBLIC
BEGIN:VALARM
TRIGGER:-PT10080M
ACTION:DISPLAY
DESCRIPTION:Reminder
END:VALARM
END:VEVENT
END:VCALENDAR
