BEGIN:VCALENDAR
VERSION:2.0
METHOD:PUBLISH
BEGIN:VEVENT
DTSTART:20270221T180000Z
LOCATION:Stadthalle Sigmaringen
TRANSP: OPAQUE
SEQUENCE:0
UID:
DTSTAMP:20260421T095708Z
SUMMARY:ICH SAG NIX
DESCRIPTION:Keiner sagt so schön nichts wie Rolf Miller. Die Presse schreibt „Sternstunde des Stotterns und Stammelns“&#8230; über das man permanent lachen muss und deshalb gar nicht gleich merkt, welche Abgründe uns Miller da verschleiert&#8230;Immer indirekt, immer nebensächlich, geradezu unbeteiligt jubelt uns der grandiose Satiriker das bedeutungslose Nichts unseres Seins unter, mit brutalem Gefühl fürs Gespür. Lebe nicht dein Leben, träume deinen Traum, denn das Ziel ist im Weg. Äh, hä!? &#8211; Genau. Miller zeigt dir den Traum deiner Ziele.
PRIORITY:1
CLASS:PUBLIC
BEGIN:VALARM
TRIGGER:-PT10080M
ACTION:DISPLAY
DESCRIPTION:Reminder
END:VALARM
END:VEVENT
END:VCALENDAR
