BEGIN:VCALENDAR
VERSION:2.0
METHOD:PUBLISH
BEGIN:VEVENT
DTSTART:20260517T140000Z
LOCATION:Kulturzentrum Wolfgang-Eychmüller-Haus Vöhringen
TRANSP: OPAQUE
SEQUENCE:0
UID:
DTSTAMP:20260421T113012Z
SUMMARY:Die große musikalische Lachparade mit &#8222;Alpenland Sepp&#8220;
DESCRIPTION:Humoristischer Unterhaltungsnachmittag mit &#8222;Alpenland Sepp&#8220; und &#8222;SVIZCI / Dejan und seine Oberkrainer&#8220; sowie &#8222;Captain Freddy&#8220; mit seinem Saxophon.Der Akkordeon-Club Vöhringen e.V. präsentiert zusammen mit der Firma &#8222;Medina Pflege daheim&#8220; in Vöhringen erneut „Die große musikalische Lachparade&#8220; mit folgenden Künstlern:&#8222;Alpenland Sepp&#8220; &#8211; Conferencier und humoristischer Moderator der Extraklasse. 27 Jahre begeisterte Sepp Silberberger mit seinem berühmten „Original Alpenland Quintett“ und danach 19 Jahre mit seinem Trio „Alpenland Sepp &amp; Co.“ die Fans mit seinen Hits, Gags und Showeinlagen. Stimmungsvolle Kurzauftritte mit seinen legendären Alpenland-Hits und sein originelles Humorprogramm sorgen für ein unvergessliches Erlebnis.&#8222;SVIZCI / Dejan und seine Oberkrainer&#8220; &#8211; Jung, sympathisch [&hellip;]
PRIORITY:1
CLASS:PUBLIC
BEGIN:VALARM
TRIGGER:-PT10080M
ACTION:DISPLAY
DESCRIPTION:Reminder
END:VALARM
END:VEVENT
END:VCALENDAR
