BEGIN:VCALENDAR
VERSION:2.0
METHOD:PUBLISH
BEGIN:VEVENT
DTSTART:20260728T164700Z
LOCATION:Festgelände Kuppelnau
TRANSP: OPAQUE
SEQUENCE:0
UID:
DTSTAMP:20260421T170557Z
SUMMARY:Rutenfest Ravensburg
DESCRIPTION:Alljährlich, wenn es den Sommerferien der Schulen entgegengeht, feiert die einstige Reichsstadt Ravensburg das Rutenfest. Dieses tief in der Historie der Stadt wurzelnde Schüler- und Heimatfest wirkt wie ein Magnet auf die Bevölkerung, insbesondere auf die in die Fremde gezogenen Ravensburger, die ihre Heimatbesuche mit Vorliebe in die Zeit des Rutenfestes legen. Auch wer sich von Ravensburg gelöst hat, scheint in der Ferne noch die krachenden Böllerschüsse vom Mehlsack und die Trommeln zu hören …Das Rutenfest vereint die Bürgerschaft jedes Jahr über wenige Tage ohne Unterschied von Rang und Namen, die Alten und die Jungen, die Großen und die Kleinen, [&hellip;]
PRIORITY:1
CLASS:PUBLIC
BEGIN:VALARM
TRIGGER:-PT10080M
ACTION:DISPLAY
DESCRIPTION:Reminder
END:VALARM
END:VEVENT
END:VCALENDAR
