BEGIN:VCALENDAR
VERSION:2.0
METHOD:PUBLISH
BEGIN:VEVENT
DTSTART:20260710T165800Z
LOCATION:Festplatz Weingarten
TRANSP: OPAQUE
SEQUENCE:0
UID:
DTSTAMP:20260421T095952Z
SUMMARY:Welfenfest Weingarten
DESCRIPTION:Das Welfenfest in Weingarten ist ein großes, historisches Schüler- und Heimatfest mit Tradition seit 1764, das jährlich vor den Sommerferien stattfindet und mit einem großen historischen Festzug, dem Welfentheater vor der Basilika, Trommlerauftritten, einem Bürgertreff und einem Rummelplatz ein buntes Programm bietet, das Geschichte und Brauchtum der Stadt feiert. Es ist geprägt durch das ehrenamtliche Engagement vieler Bürger, die die Tradition der „Schülertage“ fortführen.
PRIORITY:1
CLASS:PUBLIC
BEGIN:VALARM
TRIGGER:-PT10080M
ACTION:DISPLAY
DESCRIPTION:Reminder
END:VALARM
END:VEVENT
END:VCALENDAR
