BEGIN:VCALENDAR
VERSION:2.0
METHOD:PUBLISH
BEGIN:VEVENT
DTSTART:20260313T190000Z
LOCATION:Bürger-und Veranstaltungshaus Adler Illertissen
TRANSP: OPAQUE
SEQUENCE:0
UID:
DTSTAMP:20260421T094910Z
SUMMARY:Schlagerabend mit Beate und Manu
DESCRIPTION:Schlagerabend mit Beate und Manu
PRIORITY:1
CLASS:PUBLIC
BEGIN:VALARM
TRIGGER:-PT10080M
ACTION:DISPLAY
DESCRIPTION:Reminder
END:VALARM
END:VEVENT
END:VCALENDAR
