BEGIN:VCALENDAR
VERSION:2.0
METHOD:PUBLISH
BEGIN:VEVENT
DTSTART:20260228T220000Z
LOCATION:Cocomo Ulm
TRANSP: OPAQUE
SEQUENCE:0
UID:
DTSTAMP:20260420T135019Z
SUMMARY:Sündenherz – Casino Velvet
DESCRIPTION:Sündenherz Casino Velvet – Der Einsatz bist du!Wenn der Winter fällt und die Nächte wieder atmen, öffnet Sündenherz ein neues Kapitel:Casino Velvet – ein Ort zwischen Glanz und Gefahr, zwischen Kontrolle und Verlangen.Wo jeder Blick zur Wette wird … und jede Bewegung zählt.Dein Risiko trägt samt.Ob die Kugel auf Schwarz fällt oder auf dein Verlangen, entscheidet nur der Moment, in dem du dich traust, alles zu riskieren.WAS DICH ERWARTETCasino Velvet – ein Spiel aus Glanz, Kontrolle und Versuchung.♠️ Play- &amp; Soundroom mit DJ – all night long♥️ Main Floor – Line-up to be announced (von groovig bis gnadenlos treibend)Shows &amp; [&hellip;]
PRIORITY:1
CLASS:PUBLIC
BEGIN:VALARM
TRIGGER:-PT10080M
ACTION:DISPLAY
DESCRIPTION:Reminder
END:VALARM
END:VEVENT
END:VCALENDAR
