BEGIN:VCALENDAR
VERSION:2.0
METHOD:PUBLISH
BEGIN:VEVENT
DTSTART:20260314T140000Z
LOCATION:Alpspitzhalle Nesselwang
TRANSP: OPAQUE
SEQUENCE:0
UID:
DTSTAMP:20260421T100709Z
SUMMARY:Kleidermarkt für Kinderbekleidung in Nesselwang
DESCRIPTION:Am Samstag, den 14. März 2026 findet von 14-16 Uhr der Nesselwanger Kinderkleidermarkt in der Alpspitzhalle Nesselwang statt. Verkauf von gut erhaltener Kinderkleidung in den Größen 50-176, Schuhe, Spielsachen, Bücher, Babysachen etc. Nur Barzahlung möglich. Mit Kuchenverkauf.15% vom Verkaufserlös und der gesamte Erlös aus dem Kuchenverkauf gehen an Kinder im Markt und an den Turnverein.https://kleidermarkt-nesselwang.cabanova.com/aktuell-und-vorschau.html
PRIORITY:1
CLASS:PUBLIC
BEGIN:VALARM
TRIGGER:-PT10080M
ACTION:DISPLAY
DESCRIPTION:Reminder
END:VALARM
END:VEVENT
END:VCALENDAR
