BEGIN:VCALENDAR
VERSION:2.0
METHOD:PUBLISH
BEGIN:VEVENT
DTSTART:20260314T180000Z
LOCATION:Turn- und Festhalle Stafflangen
TRANSP: OPAQUE
SEQUENCE:0
UID:
DTSTAMP:20260421T100201Z
SUMMARY:Mädelsflohmarkt in Stafflangen
DESCRIPTION:Der MÄDELSFLOHMARKT in Stafflangen ist seit Jahren ein geselliger Treffpunkt für Besucherinnen und Besucher und besonders für die Händlerinnen und Händler.Ganz wichtig: der Gewinn ist immer für einen guten Zweck!Herzlich willkommen!
PRIORITY:1
CLASS:PUBLIC
BEGIN:VALARM
TRIGGER:-PT10080M
ACTION:DISPLAY
DESCRIPTION:Reminder
END:VALARM
END:VEVENT
END:VCALENDAR
