BEGIN:VCALENDAR
VERSION:2.0
METHOD:PUBLISH
BEGIN:VEVENT
DTSTART:20260314T090000Z
LOCATION:Stadt. Bad Schussenried
TRANSP: OPAQUE
SEQUENCE:0
UID:
DTSTAMP:20260421T094714Z
SUMMARY:Märzmarkt
DESCRIPTION:Einladung zum Bad Schussenrieder MärzmarktDie ARGE Märkte lädt wieder zum traditionellen Märzmarkt nach Bad Schussenried ein. Bummeln Sie durch den vielfältigen Markt der auf der Wilhelm-Schussen-Straße stattfindet. Gesperrt wird ab dem Netto bis zur Biberacher Straße, sowie die Klosterstraße &amp; Löwenstraße. Auf dem Marktplatz findet wie gewohnt der Wochenmarkt statt.Die Händler freuen sich auf Ihren Besuch.
PRIORITY:1
CLASS:PUBLIC
BEGIN:VALARM
TRIGGER:-PT10080M
ACTION:DISPLAY
DESCRIPTION:Reminder
END:VALARM
END:VEVENT
END:VCALENDAR
