BEGIN:VCALENDAR
VERSION:2.0
METHOD:PUBLISH
BEGIN:VEVENT
DTSTART:20260319T093000Z
LOCATION:Bierkrugstadel der SCHUSSENRIEDER Brauerei Ott
TRANSP: OPAQUE
SEQUENCE:0
UID:
DTSTAMP:20260421T095708Z
SUMMARY:Traditioneller Josefstag
DESCRIPTION:Josef, lieber Josef!Auch dieses Jahr findet der beliebte Schussenrieder Josefstag wieder im Bierkrugstadel in Bad Schussenried statt.  Es treffen sich wieder alle, die auf die Namen Josef, Josefine, Beppe und Sepp hören, zum traditionellen Josefstag im SCHUSSENRIEDER Bierkrugstadel. Selbstverständlich sind auch alle anderen Gäste herzlich willkommen!Der Josefstag am 19. März war bis zum Jahre 1965 ein katholischer Feiertag in Oberschwaben. An diesem Tag feierten die Menschen den Namenstag des gesetzlichen Vaters von Jesus. Aber wie so viele alte Traditionen wurde auch dieser Brauch eingestellt. Erst der Bräu Jürgen Josef Ott erweckte diese alte Tradition wieder zum Leben. Schon immer setzt [&hellip;]
PRIORITY:1
CLASS:PUBLIC
BEGIN:VALARM
TRIGGER:-PT10080M
ACTION:DISPLAY
DESCRIPTION:Reminder
END:VALARM
END:VEVENT
END:VCALENDAR
