BEGIN:VCALENDAR
VERSION:2.0
METHOD:PUBLISH
BEGIN:VEVENT
DTSTART:20260320T200000Z
LOCATION:Innenstadt Biberach
TRANSP: OPAQUE
SEQUENCE:0
UID:
DTSTAMP:20260421T114902Z
SUMMARY:Biberacher Musiknacht
DESCRIPTION:29. Biberacher Musiknacht am 20.03. ab 20 Uhr mit 21 Bands an 18 Locations und fast 5 Stunden Live-Musik für einmal Eintritt.Die 29. Biberacher Musiknacht findet am Freitag, 20. März 2025 ab 20:00 Uhr statt mit einem wahren Feuerwerk an spannenden Bands und Künstlern und viel toller Live-Musik (Link zur Facebook-Veranstaltung: https://fb.me/e/4Aljskzhn).21 höchst motivierte Bands werden in 18 Locations für knapp 5 Stunden für Live-Musik und beste Stimmung sorgen.Die Besucher erwartet wieder ein bunter Stilmix mit u.a. Rock, Pop, Brass, Jump Blues, Gypsy Jazz, Funk, Ska, Folk, Hardrock, Dixie, Oldies und Schlager. Außerdem werden auch die Liebhaber von Rockabilly und [&hellip;]
PRIORITY:1
CLASS:PUBLIC
BEGIN:VALARM
TRIGGER:-PT10080M
ACTION:DISPLAY
DESCRIPTION:Reminder
END:VALARM
END:VEVENT
END:VCALENDAR
