BEGIN:VCALENDAR
VERSION:2.0
METHOD:PUBLISH
BEGIN:VEVENT
DTSTART:20260327T193000Z
LOCATION:Festhalle Leutkirch
TRANSP: OPAQUE
SEQUENCE:0
UID:
DTSTAMP:20260421T100537Z
SUMMARY:Leutkircher Kleinkunst: Uli Boettcher
DESCRIPTION:Heimwerker sind eine besondere Spezies. Sie reparieren Leitungen, auf denen sie stehen und haben nicht immer alle frisch lackierten Latten am Zaun. Sie ziehen samstags scharenweise zu Pilgerstätten mit seltsamen Namen wie Toom oder OBI und kaufen Werkzeug, das sie sich leisten, aber kaum bedienen können. Und kehren danach glücklich zurück in ihre Hobbykeller.Uli Boettcher plaudert aus dem Werkzeugkästchen. Als unerschütterlicher Universal-Dilettant hat er bescheidene Erfolge gefeiert und krachende Niederlagen erlitten. Denn wie oft wird ein hoffnungsvolles Projekt durch die letzte Schraube noch zum Scheitern gebracht? Doch es liegt in der Natur des Hobbyhandwerkers, dass er niemals aufgibt. Schließlich kann [&hellip;]
PRIORITY:1
CLASS:PUBLIC
BEGIN:VALARM
TRIGGER:-PT10080M
ACTION:DISPLAY
DESCRIPTION:Reminder
END:VALARM
END:VEVENT
END:VCALENDAR
