BEGIN:VCALENDAR
VERSION:2.0
METHOD:PUBLISH
BEGIN:VEVENT
DTSTART:20260314T110000Z
LOCATION:Andelsbach-Halle Denkingen
TRANSP: OPAQUE
SEQUENCE:0
UID:
DTSTAMP:20260419T130218Z
SUMMARY:Mädchenflohmarkt in Denkingen
DESCRIPTION:Die Damenmannschaft des SV Denkingen lädt zum Mädchenflohmarkt für Jung und Alt ein!Am 14. März 2026 bieten wir euch die Möglichkeit, eurem Kleiderschrank neuen Wind einzuhauchen und euch von alten Teilen zu trennen oder neue Second Hand Teile wie Kleider, Accessoires, Sonnenbrillen, Taschen, etc. einziehen zu lassen!Außerdem erwartet euch auch wieder ein super kulinarisches Angebot sowie unsere Aperol Bar und eine entspannte &#8222;Chillout-Area&#8220;.Anmeldung und weitere Infos für Aussteller unter www.sv-denkingen.de/mädchenflohmarkt
PRIORITY:1
CLASS:PUBLIC
BEGIN:VALARM
TRIGGER:-PT10080M
ACTION:DISPLAY
DESCRIPTION:Reminder
END:VALARM
END:VEVENT
END:VCALENDAR
