BEGIN:VCALENDAR
VERSION:2.0
METHOD:PUBLISH
BEGIN:VEVENT
DTSTART:20260430T200000Z
LOCATION:Brauereigaststätte Zum Stift
TRANSP: OPAQUE
SEQUENCE:0
UID:
DTSTAMP:20260419T161514Z
SUMMARY:41. Kemptener Jazzfrühling _ Grass Root Ties _ Bluescafé
DESCRIPTION:40-jähriges BandjubiläumDie „Grass Root Ties“ touren seit Jahrzehnten über die Bühnen Europas und zelebrieren unterschiedliche Stilistiken wie Bluegrass, akustische Country-Music sowie Blues und Swing. Mit großem Instrumentarium und mitreißendem mehrstimmigem Gesang bestechen die „Ties“ ihr Publikum. Western- und Resonator-Gitarren, Mandoline, Fiddle, irische Bouzouki und Kontrabass beherrschen sie mit raffinierter Technik.Auch ohne Schlagzeug lassen das perkussive Spiel und ein runder, kraftvoller Rhythmus keine Wünsche offen. Im Musikkoffer haben die „Ties“ Arrangements von Folk- und Countryrock-Klassikern der 1960er- und 1970er-Jahre, so z.B. von Bob Dylan und Crosby, Stills and Nash, The Eagles und Creedence Clearwater Revival. Daneben sind auch Eigenkompositionen des versierten [&hellip;]
PRIORITY:1
CLASS:PUBLIC
BEGIN:VALARM
TRIGGER:-PT10080M
ACTION:DISPLAY
DESCRIPTION:Reminder
END:VALARM
END:VEVENT
END:VCALENDAR
