BEGIN:VCALENDAR
VERSION:2.0
METHOD:PUBLISH
BEGIN:VEVENT
DTSTART:20260501T113000Z
LOCATION:Brauereigaststätte Zum Stift
TRANSP: OPAQUE
SEQUENCE:0
UID:
DTSTAMP:20260419T161215Z
SUMMARY:41. Kemptener Jazzfrühling _ Grass Root Ties _ Musikerfrühstück
DESCRIPTION:40-jähriges BandjubiläumDie „Grass Root Ties“ touren seit Jahrzehnten über die Bühnen Europas und zelebrieren unterschiedliche Stilistiken wie Bluegrass, akustische Country-Music sowie Blues und Swing. Mit großem Instrumentarium und mitreißendem mehrstimmigem Gesang bestechen sie ihr Publikum. Western- und Resonator-Gitarren, Mandoline, Fiddle, irische Bouzouki, Kontrabass setzen sie versiert in Szene.
PRIORITY:1
CLASS:PUBLIC
BEGIN:VALARM
TRIGGER:-PT10080M
ACTION:DISPLAY
DESCRIPTION:Reminder
END:VALARM
END:VEVENT
END:VCALENDAR
