BEGIN:VCALENDAR
VERSION:2.0
METHOD:PUBLISH
BEGIN:VEVENT
DTSTART:20260502T200000Z
LOCATION:Brauereigaststätte Zum Stift
TRANSP: OPAQUE
SEQUENCE:0
UID:
DTSTAMP:20260419T161841Z
SUMMARY:41. Kemptener Jazzfrühling _ Martin Schmitt – Schmitt happens _ Bluescafé
DESCRIPTION:„Pointiertes Klavierkabarett, wunderbare Songs und geballte Charmeoffensiven“ – „Ein künstlerischer Tausendsassa“ – „Das Tier am Klavier“. So und ähnlich schreibt die Presse über Martin Schmitt.Frei nach Goethe „Der Worte sind genug gewechselt, lasst mich auch endlich Tasten sehen“ kommt in diesem wortgewaltigen Programm das Klavierspiel nicht zu kurz. Das kann er wie kaum ein anderer, dieser Mann, der nicht annähernd so behämmert ist wie sein Klavier. Zeitgeistige und detaillierte Blicke auf Beziehungen unterschiedlichster Art, die Reise nach innen, Psychotricks, Stimmungsschwankungen, unglaubliche Lebensläufe, zahllose Dialekte. All das und noch viel mehr in einer Show zusammenzubringen, gelingt dem Bühnenjunkie wie kaum einem [&hellip;]
PRIORITY:1
CLASS:PUBLIC
BEGIN:VALARM
TRIGGER:-PT10080M
ACTION:DISPLAY
DESCRIPTION:Reminder
END:VALARM
END:VEVENT
END:VCALENDAR
