BEGIN:VCALENDAR
VERSION:2.0
METHOD:PUBLISH
BEGIN:VEVENT
DTSTART:20260322T090000Z
LOCATION:Füssen
TRANSP: OPAQUE
SEQUENCE:0
UID:
DTSTAMP:20260421T101100Z
SUMMARY:Flohmarkt / Kunsthandwerkmarkt Füssen
DESCRIPTION:Wir vom C&amp;C Flohmarkt Team, veranstalten ab März 2026 parallel zu den den drei großen Jahrmärkten ( Josefimarkt &#8211; Himmelfahrtmarkt -Kirchweihmarkt ), Flohmärkte in Füssen.
PRIORITY:1
CLASS:PUBLIC
BEGIN:VALARM
TRIGGER:-PT10080M
ACTION:DISPLAY
DESCRIPTION:Reminder
END:VALARM
END:VEVENT
END:VCALENDAR
