BEGIN:VCALENDAR
VERSION:2.0
METHOD:PUBLISH
BEGIN:VEVENT
DTSTART:20260315T180000Z
LOCATION:Stadttheater Kepten
TRANSP: OPAQUE
SEQUENCE:0
UID:
DTSTAMP:20260421T085319Z
SUMMARY:L´EOS LOUNGE
DESCRIPTION:Der Allgäuer Autor und Filmemacher Leo Hiemer holtunveröffentlichte Texte aus der Schublade. In zwangloserAtmosphäre präsentiert er Witz und Satire, Ironie undParodie, Sprachspiele und Sinnsprüche, Nonsens undtiefere Bedeutung, dazu Musik mit und ohne Text sowieTexte mit und ohne Musik. Ein Abend, der in keine Schubladepasst.Leo Hiemer („Daheim sterben die Leut‘“, „Leni … muss fort“,„Die Jüdin und der Kardinal“, „Hitler in Landsberg“, „3 Filmegegen Rechts“) ist in Kempten kein Unbekannter. „L‘eosLounge“ ist sein erstes Soloprogramm.
PRIORITY:1
CLASS:PUBLIC
BEGIN:VALARM
TRIGGER:-PT10080M
ACTION:DISPLAY
DESCRIPTION:Reminder
END:VALARM
END:VEVENT
END:VCALENDAR
